Workbook

Sheet Market
A1: Godoy Cruz v San Martin de San Juan - 21:30 Match Odds | D1: 0.89583333 | F1: Soccer\Argentinian Soccer\Argentinian Primera Division\Fixtures 02 Nov\Godoy Cruz v San Martin de San Juan | H1: BFSP | I1: N | J1: Streaming | K1: PO | M1: Parent id | N1: 34853899 | O1: Version | P1: 6952911310 | Z1: Keep in play (Y/N) | AA1: Y
A2: Last updated: | B2: 45963.848 | C2: 0.84828704 | D2: 0.047546296 | E2: Not In Play | H2: Balance: | I2: 39.73 | K2: Exposure: | L2: -15.14 | M2: Trans: | N2: 0 | P2: Refresh rate(1.0): | Z2: Trigger modifier | AA2: =IF(AA1="Y","-IP","") -> -IP
A3: Total matched: | B3: 4175.19 | C3: N/A | D3: Winners | E3: 1 | F3: NR | G3: 0 | H3: Turn IP | I3: Y | J3: 15 | K3: IR Delay | L3: 0 | M3: Market id | N3: 249187918 | O3: Comm: | P3: 2
A4: Selection name | B4: Back Odds 3 | D4: Back Odds 2 | F4: Back Odds 1 | H4: Lay Odds 1 | J4: Lay Odds 2 | L4: Lay Odds 3 | N4: Reduction factor | O4: Last price matched | P4: Total amount matched | Q4: Trigger | R4: Odds | S4: Stake | T4: Bet ref | U4: Bet time | V4: Avg matched odds | W4: Matched stake | X4: Profit / Loss | Z4: Selection | AA4: Bet Type | AB4: Stake | AC4: Current Odds | AD4: Min Odds | AE4: Max Odds | AF4: < Min Odds | AG4: > Max Odds | AH4: Back Odds | AI4: Lay Odds | AJ4: Trigger bet? | AK4: Seconds until start | AL4: Trigger time (seconds before start)
A5: Godoy Cruz | B5: 2.36 | C5: 43 | D5: 2.38 | E5: 13 | F5: 2.4 | G5: 89 | H5: 2.42 | I5: 214 | J5: 2.44 | K5: 8 | L5: 2.46 | M5: 103 | N5: 0 | O5: 2.42 | P5: 2111.57 | Q5: =IF(AND(E$2="Not In Play",F$2<>"Suspended"),IF(AA5="BACK",IF(AND(Z5=A5,AG5="N",$AJ$5="Y"),AA5 & AA$2,""),IF(AND(Z5=A5,AF5="N",$AJ$5="Y"),AA5 & AA$2,"")),"") -> LAY-IP | R5: =IF(AA5="BACK",AH5,AI5) -> 2.42 | S5: =AB5 -> 2 | T5: 407727997615 | U5: 0.79517361 | V5: 2.44 | W5: 2 | X5: -2.88 | Z5: =VLOOKUP($A5,Selections!$A$2:$E$33,1,FALSE) -> Godoy Cruz | AA5: =VLOOKUP($A5,Selections!$A$2:$E$33,3,FALSE) -> LAY | AB5: =VLOOKUP($A5,Selections!$A$2:$E$33,2,FALSE) -> 2 | AC5: =IF(AA5="BACK",F5,IF(AA5="LAY",H5,"")) -> 2.42 | AD5: =VLOOKUP($A5,Selections!$A$2:$E$33,4,FALSE) -> 1.1 | AE5: =VLOOKUP($A5,Selections!$A$2:$E$33,5,FALSE) -> 3 | AF5: =IF(AC5<AD5,"Y","N") -> N | AG5: =IF(AC5>AE5,"Y","N") -> N | AH5: =IF(AF5="Y",AD5,F5) -> 2.4 | AI5: =IF(AG5="N",H5,AE5) -> 2.42 | AJ5: Y | AK5: =IF(LEFT(D2)<>"-",(HOUR(D2)*3600)+(MINUTE(D2)*60)+SECOND(D2),-((HOUR(SUBSTITUTE(D2,"-",""))*3600)+(MINUTE(SUBSTITUTE(D2,"-",""))*60)+SECOND(SUBSTITUTE(D2,"-","")))) -> 4108 | AL5: 120
A6: San Martin de San Juan | B6: 4 | C6: 55 | D6: 4.1 | E6: 70 | F6: 4.2 | G6: 282 | H6: 4.3 | I6: 53 | J6: 4.4 | K6: 84 | L6: 4.5 | M6: 163 | N6: 0 | O6: 4.4 | P6: 373.17 | Q6: =IF(AND(E$2="Not In Play",F$2<>"Suspended"),IF(AA6="BACK",IF(AND(Z6=A6,AG6="N",$AJ$5="Y"),AA6 & AA$2,""),IF(AND(Z6=A6,AF6="N",$AJ$5="Y"),AA6 & AA$2,"")),"") -> #N/A | R6: =IF(AA6="BACK",AH6,AI6) -> #N/A | S6: =AB6 -> #N/A | V6: 0 | W6: 0 | X6: 2 | Z6: =VLOOKUP($A6,Selections!$A$2:$E$33,1,FALSE) -> #N/A | AA6: =VLOOKUP($A6,Selections!$A$2:$E$33,3,FALSE) -> #N/A | AB6: =VLOOKUP($A6,Selections!$A$2:$E$33,2,FALSE) -> #N/A | AC6: =IF(AA6="BACK",F6,IF(AA6="LAY",H6,"")) -> #N/A | AD6: =VLOOKUP($A6,Selections!$A$2:$E$33,4,FALSE) -> #N/A | AE6: =VLOOKUP($A6,Selections!$A$2:$E$33,5,FALSE) -> #N/A | AF6: =IF(AC6<AD6,"Y","N") -> #N/A | AG6: =IF(AC6>AE6,"Y","N") -> #N/A | AH6: =IF(AF6="Y",AD6,F6) -> #N/A | AI6: =IF(AG6="N",H6,AE6) -> #N/A
A7: The Draw | B7: 2.78 | C7: 15 | D7: 2.82 | E7: 65 | F7: 2.86 | G7: 162 | H7: 2.88 | I7: 130 | J7: 2.9 | K7: 38 | L7: 2.92 | M7: 63 | N7: 0 | O7: 2.88 | P7: 1690.45 | Q7: =IF(AND(E$2="Not In Play",F$2<>"Suspended"),IF(AA7="BACK",IF(AND(Z7=A7,AG7="N",$AJ$5="Y"),AA7 & AA$2,""),IF(AND(Z7=A7,AF7="N",$AJ$5="Y"),AA7 & AA$2,"")),"") -> #N/A | R7: =IF(AA7="BACK",AH7,AI7) -> #N/A | S7: =AB7 -> #N/A | V7: 0 | W7: 0 | X7: 2 | Z7: =VLOOKUP($A7,Selections!$A$2:$E$33,1,FALSE) -> #N/A | AA7: =VLOOKUP($A7,Selections!$A$2:$E$33,3,FALSE) -> #N/A | AB7: =VLOOKUP($A7,Selections!$A$2:$E$33,2,FALSE) -> #N/A | AC7: =IF(AA7="BACK",F7,IF(AA7="LAY",H7,"")) -> #N/A | AD7: =VLOOKUP($A7,Selections!$A$2:$E$33,4,FALSE) -> #N/A | AE7: =VLOOKUP($A7,Selections!$A$2:$E$33,5,FALSE) -> #N/A | AF7: =IF(AC7<AD7,"Y","N") -> #N/A | AG7: =IF(AC7>AE7,"Y","N") -> #N/A | AH7: =IF(AF7="Y",AD7,F7) -> #N/A | AI7: =IF(AG7="N",H7,AE7) -> #N/A
Q8: =IF(AND(E$2="Not In Play",F$2<>"Suspended"),IF(AA8="BACK",IF(AND(Z8=A8,AG8="N",$AJ$5="Y"),AA8 & AA$2,""),IF(AND(Z8=A8,AF8="N",$AJ$5="Y"),AA8 & AA$2,"")),"") -> #N/A | R8: =IF(AA8="BACK",AH8,AI8) -> #N/A | S8: =AB8 -> #N/A | Z8: =VLOOKUP($A8,Selections!$A$2:$E$33,1,FALSE) -> #N/A | AA8: =VLOOKUP($A8,Selections!$A$2:$E$33,3,FALSE) -> #N/A | AB8: =VLOOKUP($A8,Selections!$A$2:$E$33,2,FALSE) -> #N/A | AC8: =IF(AA8="BACK",F8,IF(AA8="LAY",H8,"")) -> #N/A | AD8: =VLOOKUP($A8,Selections!$A$2:$E$33,4,FALSE) -> #N/A | AE8: =VLOOKUP($A8,Selections!$A$2:$E$33,5,FALSE) -> #N/A | AF8: =IF(AC8<AD8,"Y","N") -> #N/A | AG8: =IF(AC8>AE8,"Y","N") -> #N/A | AH8: =IF(AF8="Y",AD8,F8) -> #N/A | AI8: =IF(AG8="N",H8,AE8) -> #N/A
Q9: =IF(AND(E$2="Not In Play",F$2<>"Suspended"),IF(AA9="BACK",IF(AND(Z9=A9,AG9="N",$AJ$5="Y"),AA9 & AA$2,""),IF(AND(Z9=A9,AF9="N",$AJ$5="Y"),AA9 & AA$2,"")),"") -> #N/A | R9: =IF(AA9="BACK",AH9,AI9) -> #N/A | S9: =AB9 -> #N/A | Z9: =VLOOKUP($A9,Selections!$A$2:$E$33,1,FALSE) -> #N/A | AA9: =VLOOKUP($A9,Selections!$A$2:$E$33,3,FALSE) -> #N/A | AB9: =VLOOKUP($A9,Selections!$A$2:$E$33,2,FALSE) -> #N/A | AC9: =IF(AA9="BACK",F9,IF(AA9="LAY",H9,"")) -> #N/A | AD9: =VLOOKUP($A9,Selections!$A$2:$E$33,4,FALSE) -> #N/A | AE9: =VLOOKUP($A9,Selections!$A$2:$E$33,5,FALSE) -> #N/A | AF9: =IF(AC9<AD9,"Y","N") -> #N/A | AG9: =IF(AC9>AE9,"Y","N") -> #N/A | AH9: =IF(AF9="Y",AD9,F9) -> #N/A | AI9: =IF(AG9="N",H9,AE9) -> #N/A
Q10: =IF(AND(E$2="Not In Play",F$2<>"Suspended"),IF(AA10="BACK",IF(AND(Z10=A10,AG10="N",$AJ$5="Y"),AA10 & AA$2,""),IF(AND(Z10=A10,AF10="N",$AJ$5="Y"),AA10 & AA$2,"")),"") -> #N/A | R10: =IF(AA10="BACK",AH10,AI10) -> #N/A | S10: =AB10 -> #N/A | Z10: =VLOOKUP($A10,Selections!$A$2:$E$33,1,FALSE) -> #N/A | AA10: =VLOOKUP($A10,Selections!$A$2:$E$33,3,FALSE) -> #N/A | AB10: =VLOOKUP($A10,Selections!$A$2:$E$33,2,FALSE) -> #N/A | AC10: =IF(AA10="BACK",F10,IF(AA10="LAY",H10,"")) -> #N/A | AD10: =VLOOKUP($A10,Selections!$A$2:$E$33,4,FALSE) -> #N/A | AE10: =VLOOKUP($A10,Selections!$A$2:$E$33,5,FALSE) -> #N/A | AF10: =IF(AC10<AD10,"Y","N") -> #N/A | AG10: =IF(AC10>AE10,"Y","N") -> #N/A | AH10: =IF(AF10="Y",AD10,F10) -> #N/A | AI10: =IF(AG10="N",H10,AE10) -> #N/A
Q11: =IF(AND(E$2="Not In Play",F$2<>"Suspended"),IF(AA11="BACK",IF(AND(Z11=A11,AG11="N",$AJ$5="Y"),AA11 & AA$2,""),IF(AND(Z11=A11,AF11="N",$AJ$5="Y"),AA11 & AA$2,"")),"") -> #N/A | R11: =IF(AA11="BACK",AH11,AI11) -> #N/A | S11: =AB11 -> #N/A | Z11: =VLOOKUP($A11,Selections!$A$2:$E$33,1,FALSE) -> #N/A | AA11: =VLOOKUP($A11,Selections!$A$2:$E$33,3,FALSE) -> #N/A | AB11: =VLOOKUP($A11,Selections!$A$2:$E$33,2,FALSE) -> #N/A | AC11: =IF(AA11="BACK",F11,IF(AA11="LAY",H11,"")) -> #N/A | AD11: =VLOOKUP($A11,Selections!$A$2:$E$33,4,FALSE) -> #N/A | AE11: =VLOOKUP($A11,Selections!$A$2:$E$33,5,FALSE) -> #N/A | AF11: =IF(AC11<AD11,"Y","N") -> #N/A | AG11: =IF(AC11>AE11,"Y","N") -> #N/A | AH11: =IF(AF11="Y",AD11,F11) -> #N/A | AI11: =IF(AG11="N",H11,AE11) -> #N/A
Q12: =IF(AND(E$2="Not In Play",F$2<>"Suspended"),IF(AA12="BACK",IF(AND(Z12=A12,AG12="N",$AJ$5="Y"),AA12 & AA$2,""),IF(AND(Z12=A12,AF12="N",$AJ$5="Y"),AA12 & AA$2,"")),"") -> #N/A | R12: =IF(AA12="BACK",AH12,AI12) -> #N/A | S12: =AB12 -> #N/A | Z12: =VLOOKUP($A12,Selections!$A$2:$E$33,1,FALSE) -> #N/A | AA12: =VLOOKUP($A12,Selections!$A$2:$E$33,3,FALSE) -> #N/A | AB12: =VLOOKUP($A12,Selections!$A$2:$E$33,2,FALSE) -> #N/A | AC12: =IF(AA12="BACK",F12,IF(AA12="LAY",H12,"")) -> #N/A | AD12: =VLOOKUP($A12,Selections!$A$2:$E$33,4,FALSE) -> #N/A | AE12: =VLOOKUP($A12,Selections!$A$2:$E$33,5,FALSE) -> #N/A | AF12: =IF(AC12<AD12,"Y","N") -> #N/A | AG12: =IF(AC12>AE12,"Y","N") -> #N/A | AH12: =IF(AF12="Y",AD12,F12) -> #N/A | AI12: =IF(AG12="N",H12,AE12) -> #N/A
Q13: =IF(AND(E$2="Not In Play",F$2<>"Suspended"),IF(AA13="BACK",IF(AND(Z13=A13,AG13="N",$AJ$5="Y"),AA13 & AA$2,""),IF(AND(Z13=A13,AF13="N",$AJ$5="Y"),AA13 & AA$2,"")),"") -> #N/A | R13: =IF(AA13="BACK",AH13,AI13) -> #N/A | S13: =AB13 -> #N/A | Z13: =VLOOKUP($A13,Selections!$A$2:$E$33,1,FALSE) -> #N/A | AA13: =VLOOKUP($A13,Selections!$A$2:$E$33,3,FALSE) -> #N/A | AB13: =VLOOKUP($A13,Selections!$A$2:$E$33,2,FALSE) -> #N/A | AC13: =IF(AA13="BACK",F13,IF(AA13="LAY",H13,"")) -> #N/A | AD13: =VLOOKUP($A13,Selections!$A$2:$E$33,4,FALSE) -> #N/A | AE13: =VLOOKUP($A13,Selections!$A$2:$E$33,5,FALSE) -> #N/A | AF13: =IF(AC13<AD13,"Y","N") -> #N/A | AG13: =IF(AC13>AE13,"Y","N") -> #N/A | AH13: =IF(AF13="Y",AD13,F13) -> #N/A | AI13: =IF(AG13="N",H13,AE13) -> #N/A
Q14: =IF(AND(E$2="Not In Play",F$2<>"Suspended"),IF(AA14="BACK",IF(AND(Z14=A14,AG14="N",$AJ$5="Y"),AA14 & AA$2,""),IF(AND(Z14=A14,AF14="N",$AJ$5="Y"),AA14 & AA$2,"")),"") -> #N/A | R14: =IF(AA14="BACK",AH14,AI14) -> #N/A | S14: =AB14 -> #N/A | Z14: =VLOOKUP($A14,Selections!$A$2:$E$33,1,FALSE) -> #N/A | AA14: =VLOOKUP($A14,Selections!$A$2:$E$33,3,FALSE) -> #N/A | AB14: =VLOOKUP($A14,Selections!$A$2:$E$33,2,FALSE) -> #N/A | AC14: =IF(AA14="BACK",F14,IF(AA14="LAY",H14,"")) -> #N/A | AD14: =VLOOKUP($A14,Selections!$A$2:$E$33,4,FALSE) -> #N/A | AE14: =VLOOKUP($A14,Selections!$A$2:$E$33,5,FALSE) -> #N/A | AF14: =IF(AC14<AD14,"Y","N") -> #N/A | AG14: =IF(AC14>AE14,"Y","N") -> #N/A | AH14: =IF(AF14="Y",AD14,F14) -> #N/A | AI14: =IF(AG14="N",H14,AE14) -> #N/A
Q15: =IF(AND(E$2="Not In Play",F$2<>"Suspended"),IF(AA15="BACK",IF(AND(Z15=A15,AG15="N",$AJ$5="Y"),AA15 & AA$2,""),IF(AND(Z15=A15,AF15="N",$AJ$5="Y"),AA15 & AA$2,"")),"") -> #N/A | R15: =IF(AA15="BACK",AH15,AI15) -> #N/A | S15: =AB15 -> #N/A | Z15: =VLOOKUP($A15,Selections!$A$2:$E$33,1,FALSE) -> #N/A | AA15: =VLOOKUP($A15,Selections!$A$2:$E$33,3,FALSE) -> #N/A | AB15: =VLOOKUP($A15,Selections!$A$2:$E$33,2,FALSE) -> #N/A | AC15: =IF(AA15="BACK",F15,IF(AA15="LAY",H15,"")) -> #N/A | AD15: =VLOOKUP($A15,Selections!$A$2:$E$33,4,FALSE) -> #N/A | AE15: =VLOOKUP($A15,Selections!$A$2:$E$33,5,FALSE) -> #N/A | AF15: =IF(AC15<AD15,"Y","N") -> #N/A | AG15: =IF(AC15>AE15,"Y","N") -> #N/A | AH15: =IF(AF15="Y",AD15,F15) -> #N/A | AI15: =IF(AG15="N",H15,AE15) -> #N/A
Q16: =IF(AND(E$2="Not In Play",F$2<>"Suspended"),IF(AA16="BACK",IF(AND(Z16=A16,AG16="N",$AJ$5="Y"),AA16 & AA$2,""),IF(AND(Z16=A16,AF16="N",$AJ$5="Y"),AA16 & AA$2,"")),"") -> #N/A | R16: =IF(AA16="BACK",AH16,AI16) -> #N/A | S16: =AB16 -> #N/A | Z16: =VLOOKUP($A16,Selections!$A$2:$E$33,1,FALSE) -> #N/A | AA16: =VLOOKUP($A16,Selections!$A$2:$E$33,3,FALSE) -> #N/A | AB16: =VLOOKUP($A16,Selections!$A$2:$E$33,2,FALSE) -> #N/A | AC16: =IF(AA16="BACK",F16,IF(AA16="LAY",H16,"")) -> #N/A | AD16: =VLOOKUP($A16,Selections!$A$2:$E$33,4,FALSE) -> #N/A | AE16: =VLOOKUP($A16,Selections!$A$2:$E$33,5,FALSE) -> #N/A | AF16: =IF(AC16<AD16,"Y","N") -> #N/A | AG16: =IF(AC16>AE16,"Y","N") -> #N/A | AH16: =IF(AF16="Y",AD16,F16) -> #N/A | AI16: =IF(AG16="N",H16,AE16) -> #N/A
Q17: =IF(AND(E$2="Not In Play",F$2<>"Suspended"),IF(AA17="BACK",IF(AND(Z17=A17,AG17="N",$AJ$5="Y"),AA17 & AA$2,""),IF(AND(Z17=A17,AF17="N",$AJ$5="Y"),AA17 & AA$2,"")),"") -> #N/A | R17: =IF(AA17="BACK",AH17,AI17) -> #N/A | S17: =AB17 -> #N/A | Z17: =VLOOKUP($A17,Selections!$A$2:$E$33,1,FALSE) -> #N/A | AA17: =VLOOKUP($A17,Selections!$A$2:$E$33,3,FALSE) -> #N/A | AB17: =VLOOKUP($A17,Selections!$A$2:$E$33,2,FALSE) -> #N/A | AC17: =IF(AA17="BACK",F17,IF(AA17="LAY",H17,"")) -> #N/A | AD17: =VLOOKUP($A17,Selections!$A$2:$E$33,4,FALSE) -> #N/A | AE17: =VLOOKUP($A17,Selections!$A$2:$E$33,5,FALSE) -> #N/A | AF17: =IF(AC17<AD17,"Y","N") -> #N/A | AG17: =IF(AC17>AE17,"Y","N") -> #N/A | AH17: =IF(AF17="Y",AD17,F17) -> #N/A | AI17: =IF(AG17="N",H17,AE17) -> #N/A
Q18: =IF(AND(E$2="Not In Play",F$2<>"Suspended"),IF(AA18="BACK",IF(AND(Z18=A18,AG18="N",$AJ$5="Y"),AA18 & AA$2,""),IF(AND(Z18=A18,AF18="N",$AJ$5="Y"),AA18 & AA$2,"")),"") -> #N/A | R18: =IF(AA18="BACK",AH18,AI18) -> #N/A | S18: =AB18 -> #N/A | Z18: =VLOOKUP($A18,Selections!$A$2:$E$33,1,FALSE) -> #N/A | AA18: =VLOOKUP($A18,Selections!$A$2:$E$33,3,FALSE) -> #N/A | AB18: =VLOOKUP($A18,Selections!$A$2:$E$33,2,FALSE) -> #N/A | AC18: =IF(AA18="BACK",F18,IF(AA18="LAY",H18,"")) -> #N/A | AD18: =VLOOKUP($A18,Selections!$A$2:$E$33,4,FALSE) -> #N/A | AE18: =VLOOKUP($A18,Selections!$A$2:$E$33,5,FALSE) -> #N/A | AF18: =IF(AC18<AD18,"Y","N") -> #N/A | AG18: =IF(AC18>AE18,"Y","N") -> #N/A | AH18: =IF(AF18="Y",AD18,F18) -> #N/A | AI18: =IF(AG18="N",H18,AE18) -> #N/A
Q19: =IF(AND(E$2="Not In Play",F$2<>"Suspended"),IF(AA19="BACK",IF(AND(Z19=A19,AG19="N",$AJ$5="Y"),AA19 & AA$2,""),IF(AND(Z19=A19,AF19="N",$AJ$5="Y"),AA19 & AA$2,"")),"") -> #N/A | R19: =IF(AA19="BACK",AH19,AI19) -> #N/A | S19: =AB19 -> #N/A | Z19: =VLOOKUP($A19,Selections!$A$2:$E$33,1,FALSE) -> #N/A | AA19: =VLOOKUP($A19,Selections!$A$2:$E$33,3,FALSE) -> #N/A | AB19: =VLOOKUP($A19,Selections!$A$2:$E$33,2,FALSE) -> #N/A | AC19: =IF(AA19="BACK",F19,IF(AA19="LAY",H19,"")) -> #N/A | AD19: =VLOOKUP($A19,Selections!$A$2:$E$33,4,FALSE) -> #N/A | AE19: =VLOOKUP($A19,Selections!$A$2:$E$33,5,FALSE) -> #N/A | AF19: =IF(AC19<AD19,"Y","N") -> #N/A | AG19: =IF(AC19>AE19,"Y","N") -> #N/A | AH19: =IF(AF19="Y",AD19,F19) -> #N/A | AI19: =IF(AG19="N",H19,AE19) -> #N/A
... Q55: =IF(AND(E$2="Not In Play",F$2<>"Suspended"),IF(AA55="BACK",IF(AND(Z55=A55,AG55="N",$AJ$5="Y"),AA55 & AA$2,""),IF(AND(Z55=A55,AF55="N",$AJ$5="Y"),AA55 & AA$2,"")),"") -> #N/A | R55: =IF(AA55="BACK",AH55,AI55) -> #N/A | S55: =AB55 -> #N/A | Z55: =VLOOKUP($A55,Selections!$A$2:$E$33,1,FALSE) -> #N/A | AA55: =VLOOKUP($A55,Selections!$A$2:$E$33,3,FALSE) -> #N/A | AB55: =VLOOKUP($A55,Selections!$A$2:$E$33,2,FALSE) -> #N/A | AC55: =IF(AA55="BACK",F55,IF(AA55="LAY",H55,"")) -> #N/A | AD55: =VLOOKUP($A55,Selections!$A$2:$E$33,4,FALSE) -> #N/A | AE55: =VLOOKUP($A55,Selections!$A$2:$E$33,5,FALSE) -> #N/A | AF55: =IF(AC55<AD55,"Y","N") -> #N/A | AG55: =IF(AC55>AE55,"Y","N") -> #N/A | AH55: =IF(AF55="Y",AD55,F55) -> #N/A | AI55: =IF(AG55="N",H55,AE55) -> #N/A

Sheet Selections
A1: Name | B1: Stake | C1: Bet Type | D1: Min Odds | E1: Max Odds
A2: AC Milan | B2: 2 | C2: LAY | D2: 1.1 | E2: 3
A3: Zaragoza | B3: 2 | C3: LAY | D3: 1.1 | E3: 3
A4: FC Porto | B4: 2 | C4: LAY | D4: 1.1 | E4: 3
A5: Godoy Cruz | B5: 2 | C5: LAY | D5: 1.1 | E5: 3

Sheet MyBets
A1: Ref | B1: Selection | C1: Stake | D1: Odds | E1: Matched | F1: Type | G1: Market Name
A2: 407727997615 | B2: Godoy Cruz | C2: 2 | D2: 2.44 | E2: F | F2: L | G2: Zaragoza v Deportivo - 20:00 Match Odds
G3: Brest v Lyon - 19:45 Match Odds
G4: AC Milan v Roma - 19:45 Match Odds
G5: Universitatea Craiova v Rapid Bucharest - 18:30 Match Odds
G6: Wolfsburg v Hoffenheim - 16:30 Match Odds
G7: Wolfsburg v Hoffenheim - 16:30 Match Odds
G8: Wolfsburg v Hoffenheim - 16:30 Match Odds
G9: Wolfsburg v Hoffenheim - 16:30 Match Odds
G10: Wolfsburg v Hoffenheim - 16:30 Match Odds
G11: Wolfsburg v Hoffenheim - 16:30 Match Odds
G12: Wolfsburg v Hoffenheim - 16:30 Match Odds
